BEGIN:VCALENDAR
VERSION:2.0
PRODID:-//Home - ECPv6.8.3//NONSGML v1.0//EN
CALSCALE:GREGORIAN
METHOD:PUBLISH
X-ORIGINAL-URL:https://ivtemple.creativeonwards.com
X-WR-CALDESC:Events for Home
REFRESH-INTERVAL;VALUE=DURATION:PT1H
X-Robots-Tag:noindex
X-PUBLISHED-TTL:PT1H
BEGIN:VTIMEZONE
TZID:America/Los_Angeles
BEGIN:DAYLIGHT
TZOFFSETFROM:-0800
TZOFFSETTO:-0700
TZNAME:PDT
DTSTART:20220313T100000
END:DAYLIGHT
BEGIN:STANDARD
TZOFFSETFROM:-0700
TZOFFSETTO:-0800
TZNAME:PST
DTSTART:20221106T090000
END:STANDARD
END:VTIMEZONE
BEGIN:VEVENT
DTSTART;TZID=America/Los_Angeles:20221015T150000
DTEND;TZID=America/Los_Angeles:20221015T173000
DTSTAMP:20260422T114740
CREATED:20221007T011448Z
LAST-MODIFIED:20221015T182214Z
UID:6078-1665846000-1665855000@ivtemple.creativeonwards.com
SUMMARY:Carnatic Vocal Concert by Smt. Gayatri Venkataraghavan
DESCRIPTION:
URL:https://ivtemple.creativeonwards.com/event/carnatic-vocal-concert-by-smt-gayatri-venkataraghavan/
LOCATION:WA
CATEGORIES:Cultural
ATTACH;FMTTYPE=image/jpeg:https://ivtemple.creativeonwards.com/wp-content/uploads/2022/10/GVConcert1-1.jpg
END:VEVENT
BEGIN:VEVENT
DTSTART;TZID=America/Los_Angeles:20221015T183000
DTEND;TZID=America/Los_Angeles:20221015T203000
DTSTAMP:20260422T114741
CREATED:20221011T234834Z
LAST-MODIFIED:20221011T235033Z
UID:6153-1665858600-1665865800@ivtemple.creativeonwards.com
SUMMARY:Srinivasa Kalyanam
DESCRIPTION:
URL:https://ivtemple.creativeonwards.com/event/srinivasa-kalyanam/
LOCATION:SVETA LV Temple\, Lakshmi Venkateswara Temple\, 18109 NE 76th St\, STE#105\, Redmond\, WA\, 98052\, United States
ATTACH;FMTTYPE=image/jpeg:https://ivtemple.creativeonwards.com/wp-content/uploads/2022/10/WebSite-Flyers-4.jpg
END:VEVENT
END:VCALENDAR