BEGIN:VCALENDAR
VERSION:2.0
PRODID:-//Home - ECPv6.8.3//NONSGML v1.0//EN
CALSCALE:GREGORIAN
METHOD:PUBLISH
X-WR-CALNAME:Home
X-ORIGINAL-URL:https://ivtemple.creativeonwards.com
X-WR-CALDESC:Events for Home
REFRESH-INTERVAL;VALUE=DURATION:PT1H
X-Robots-Tag:noindex
X-PUBLISHED-TTL:PT1H
BEGIN:VTIMEZONE
TZID:America/Los_Angeles
BEGIN:DAYLIGHT
TZOFFSETFROM:-0800
TZOFFSETTO:-0700
TZNAME:PDT
DTSTART:20220313T100000
END:DAYLIGHT
BEGIN:STANDARD
TZOFFSETFROM:-0700
TZOFFSETTO:-0800
TZNAME:PST
DTSTART:20221106T090000
END:STANDARD
END:VTIMEZONE
BEGIN:VEVENT
DTSTART;TZID=America/Los_Angeles:20221020T180000
DTEND;TZID=America/Los_Angeles:20221020T190000
DTSTAMP:20260422T145038
CREATED:20221003T015629Z
LAST-MODIFIED:20221117T195038Z
UID:5864-1666288800-1666292400@ivtemple.creativeonwards.com
SUMMARY:Ekadasi Bhavad Gita Parayanam
DESCRIPTION:
URL:https://ivtemple.creativeonwards.com/event/ekadasi-bhavad-gita-parayanam/
LOCATION:WA
ATTACH;FMTTYPE=image/png:https://ivtemple.creativeonwards.com/wp-content/uploads/2022/10/8-1.png
END:VEVENT
END:VCALENDAR