BEGIN:VCALENDAR
VERSION:2.0
PRODID:-//Home - ECPv6.8.3//NONSGML v1.0//EN
CALSCALE:GREGORIAN
METHOD:PUBLISH
X-ORIGINAL-URL:https://ivtemple.creativeonwards.com
X-WR-CALDESC:Events for Home
REFRESH-INTERVAL;VALUE=DURATION:PT1H
X-Robots-Tag:noindex
X-PUBLISHED-TTL:PT1H
BEGIN:VTIMEZONE
TZID:America/Los_Angeles
BEGIN:DAYLIGHT
TZOFFSETFROM:-0800
TZOFFSETTO:-0700
TZNAME:PDT
DTSTART:20220313T100000
END:DAYLIGHT
BEGIN:STANDARD
TZOFFSETFROM:-0700
TZOFFSETTO:-0800
TZNAME:PST
DTSTART:20221106T090000
END:STANDARD
END:VTIMEZONE
BEGIN:VEVENT
DTSTART;TZID=America/Los_Angeles:20221108T010800
DTEND;TZID=America/Los_Angeles:20221108T044900
DTSTAMP:20260422T101201
CREATED:20221029T170722Z
LAST-MODIFIED:20221106T200929Z
UID:6762-1667869680-1667882940@ivtemple.creativeonwards.com
SUMMARY:lunar Eclipse
DESCRIPTION:
URL:https://ivtemple.creativeonwards.com/event/lunar-eclipse/
LOCATION:SVETA LV Temple\, Lakshmi Venkateswara Temple\, 18109 NE 76th St\, STE#105\, Redmond\, WA\, 98052\, United States
ATTACH;FMTTYPE=image/jpeg:https://ivtemple.creativeonwards.com/wp-content/uploads/2022/10/WebSite-Flyers-9.jpg
END:VEVENT
BEGIN:VEVENT
DTSTART;TZID=America/Los_Angeles:20221108T180000
DTEND;TZID=America/Los_Angeles:20221108T193000
DTSTAMP:20260422T101201
CREATED:20221029T170841Z
LAST-MODIFIED:20221029T171845Z
UID:6765-1667930400-1667935800@ivtemple.creativeonwards.com
SUMMARY:Grahana Shanti Homam
DESCRIPTION:
URL:https://ivtemple.creativeonwards.com/event/grahana-shanti-homam/
LOCATION:SVETA LV Temple\, Lakshmi Venkateswara Temple\, 18109 NE 76th St\, STE#105\, Redmond\, WA\, 98052\, United States
ATTACH;FMTTYPE=image/jpeg:https://ivtemple.creativeonwards.com/wp-content/uploads/2022/10/WebSite-Flyers-4-1.jpg
END:VEVENT
BEGIN:VEVENT
DTSTART;TZID=America/Los_Angeles:20221012T190000
DTEND;TZID=America/Los_Angeles:20221012T203000
DTSTAMP:20260422T101201
CREATED:20221003T025439Z
LAST-MODIFIED:20221009T165221Z
UID:5874-1665601200-1665606600@ivtemple.creativeonwards.com
SUMMARY:Subrahmanya Abhishekam
DESCRIPTION:
URL:https://ivtemple.creativeonwards.com/event/subrahmanya-abhishekam/
LOCATION:WA
ATTACH;FMTTYPE=image/png:https://ivtemple.creativeonwards.com/wp-content/uploads/2022/10/5-1.png
END:VEVENT
BEGIN:VEVENT
DTSTART;TZID=America/Los_Angeles:20221025T190000
DTEND;TZID=America/Los_Angeles:20221025T203000
DTSTAMP:20260422T101201
CREATED:20221011T235709Z
LAST-MODIFIED:20221114T031637Z
UID:6165-1666724400-1666729800@ivtemple.creativeonwards.com
SUMMARY:Karthika Maasa Celebrations
DESCRIPTION:
URL:https://ivtemple.creativeonwards.com/event/karthika-maasa-celebrations/
LOCATION:SVETA LV Temple\, Lakshmi Venkateswara Temple\, 18109 NE 76th St\, STE#105\, Redmond\, WA\, 98052\, United States
ATTACH;FMTTYPE=image/jpeg:https://ivtemple.creativeonwards.com/wp-content/uploads/2022/10/WebSite-Flyers-6.jpg
END:VEVENT
END:VCALENDAR