BEGIN:VCALENDAR
VERSION:2.0
PRODID:-//Home - ECPv6.8.3//NONSGML v1.0//EN
CALSCALE:GREGORIAN
METHOD:PUBLISH
X-WR-CALNAME:Home
X-ORIGINAL-URL:https://ivtemple.creativeonwards.com
X-WR-CALDESC:Events for Home
REFRESH-INTERVAL;VALUE=DURATION:PT1H
X-Robots-Tag:noindex
X-PUBLISHED-TTL:PT1H
BEGIN:VTIMEZONE
TZID:America/Los_Angeles
BEGIN:DAYLIGHT
TZOFFSETFROM:-0800
TZOFFSETTO:-0700
TZNAME:PDT
DTSTART:20230312T100000
END:DAYLIGHT
BEGIN:STANDARD
TZOFFSETFROM:-0700
TZOFFSETTO:-0800
TZNAME:PST
DTSTART:20231105T090000
END:STANDARD
END:VTIMEZONE
BEGIN:VEVENT
DTSTART;TZID=America/Los_Angeles:20230125T080000
DTEND;TZID=America/Los_Angeles:20230125T093000
DTSTAMP:20260422T072343
CREATED:20221224T164814Z
LAST-MODIFIED:20230124T042631Z
UID:7482-1674633600-1674639000@ivtemple.creativeonwards.com
SUMMARY:Vasanta Panchami - Akshrabhyasam
DESCRIPTION:
URL:https://ivtemple.creativeonwards.com/event/vasanta-panchami-akshrabhyasam/
LOCATION:SVETA LV Temple\, Lakshmi Venkateswara Temple\, 18109 NE 76th St\, STE#105\, Redmond\, WA\, 98052\, United States
ATTACH;FMTTYPE=image/jpeg:https://ivtemple.creativeonwards.com/wp-content/uploads/2022/12/Event-Flyers-4.jpg
END:VEVENT
BEGIN:VEVENT
DTSTART;TZID=America/Los_Angeles:20230125T180000
DTEND;TZID=America/Los_Angeles:20230125T210000
DTSTAMP:20260422T072343
CREATED:20221224T165104Z
LAST-MODIFIED:20221224T165125Z
UID:7489-1674669600-1674680400@ivtemple.creativeonwards.com
SUMMARY:Vasanta Panchami - Maha Saraswathi Homam
DESCRIPTION:
URL:https://ivtemple.creativeonwards.com/event/vasanta-panchami-maha-saraswathi-homam/
LOCATION:SVETA LV Temple\, Lakshmi Venkateswara Temple\, 18109 NE 76th St\, STE#105\, Redmond\, WA\, 98052\, United States
ATTACH;FMTTYPE=image/jpeg:https://ivtemple.creativeonwards.com/wp-content/uploads/2022/12/Event-Flyers-4.jpg
END:VEVENT
END:VCALENDAR