BEGIN:VCALENDAR
VERSION:2.0
PRODID:-//Home - ECPv6.8.3//NONSGML v1.0//EN
CALSCALE:GREGORIAN
METHOD:PUBLISH
X-ORIGINAL-URL:https://ivtemple.creativeonwards.com
X-WR-CALDESC:Events for Home
REFRESH-INTERVAL;VALUE=DURATION:PT1H
X-Robots-Tag:noindex
X-PUBLISHED-TTL:PT1H
BEGIN:VTIMEZONE
TZID:America/Los_Angeles
BEGIN:DAYLIGHT
TZOFFSETFROM:-0800
TZOFFSETTO:-0700
TZNAME:PDT
DTSTART:20230312T100000
END:DAYLIGHT
BEGIN:STANDARD
TZOFFSETFROM:-0700
TZOFFSETTO:-0800
TZNAME:PST
DTSTART:20231105T090000
END:STANDARD
END:VTIMEZONE
BEGIN:VEVENT
DTSTART;TZID=America/Los_Angeles:20230114T100000
DTEND;TZID=America/Los_Angeles:20230114T120000
DTSTAMP:20260422T145134
CREATED:20230109T230444Z
LAST-MODIFIED:20230110T045145Z
UID:7765-1673690400-1673697600@ivtemple.creativeonwards.com
SUMMARY:Shani Tailabhishekam
DESCRIPTION:
URL:https://ivtemple.creativeonwards.com/event/shani-tailabhishekam/
LOCATION:SVETA LV Temple\, Lakshmi Venkateswara Temple\, 18109 NE 76th St\, STE#105\, Redmond\, WA\, 98052\, United States
ATTACH;FMTTYPE=image/jpeg:https://ivtemple.creativeonwards.com/wp-content/uploads/2023/01/Event-Flyers.jpg
END:VEVENT
BEGIN:VEVENT
DTSTART;TZID=America/Los_Angeles:20230304T100000
DTEND;TZID=America/Los_Angeles:20230304T160000
DTSTAMP:20260422T145134
CREATED:20230222T163745Z
LAST-MODIFIED:20230222T164146Z
UID:7849-1677924000-1677945600@ivtemple.creativeonwards.com
SUMMARY:Sakala Kaarya Siddhi Srimad Ramayana Parayanam
DESCRIPTION:
URL:https://ivtemple.creativeonwards.com/event/sakala-kaarya-siddhi-srimad-ramayana-parayanam-2/
LOCATION:SVETA LV Temple\, Lakshmi Venkateswara Temple\, 18109 NE 76th St\, STE#105\, Redmond\, WA\, 98052\, United States
ATTACH;FMTTYPE=image/jpeg:https://ivtemple.creativeonwards.com/wp-content/uploads/2023/02/WhatsApp-Image-2023-02-17-at-4.28.25-AM.jpeg
END:VEVENT
BEGIN:VEVENT
DTSTART;TZID=America/Los_Angeles:20230103T190000
DTEND;TZID=America/Los_Angeles:20230103T203000
DTSTAMP:20260422T145134
CREATED:20221226T163230Z
LAST-MODIFIED:20221226T163230Z
UID:7514-1672772400-1672777800@ivtemple.creativeonwards.com
SUMMARY:Pradosham Rudrabhishekam
DESCRIPTION:
URL:https://ivtemple.creativeonwards.com/event/pradosham-rudrabhishekam-2/
LOCATION:SVETA LV Temple\, Lakshmi Venkateswara Temple\, 18109 NE 76th St\, STE#105\, Redmond\, WA\, 98052\, United States
ATTACH;FMTTYPE=image/jpeg:https://ivtemple.creativeonwards.com/wp-content/uploads/2022/12/Event-Flyers-2-1.jpg
END:VEVENT
END:VCALENDAR