BEGIN:VCALENDAR
VERSION:2.0
PRODID:-//Home - ECPv6.8.3//NONSGML v1.0//EN
CALSCALE:GREGORIAN
METHOD:PUBLISH
X-ORIGINAL-URL:https://ivtemple.creativeonwards.com
X-WR-CALDESC:Events for Home
REFRESH-INTERVAL;VALUE=DURATION:PT1H
X-Robots-Tag:noindex
X-PUBLISHED-TTL:PT1H
BEGIN:VTIMEZONE
TZID:America/Los_Angeles
BEGIN:DAYLIGHT
TZOFFSETFROM:-0800
TZOFFSETTO:-0700
TZNAME:PDT
DTSTART:20230312T100000
END:DAYLIGHT
BEGIN:STANDARD
TZOFFSETFROM:-0700
TZOFFSETTO:-0800
TZNAME:PST
DTSTART:20231105T090000
END:STANDARD
END:VTIMEZONE
BEGIN:VEVENT
DTSTART;TZID=America/Los_Angeles:20230830T070000
DTEND;TZID=America/Los_Angeles:20230830T140000
DTSTAMP:20260422T062544
CREATED:20230823T031753Z
LAST-MODIFIED:20230823T031951Z
UID:8107-1693378800-1693404000@ivtemple.creativeonwards.com
SUMMARY:Shravana Upakarma/Avani Avittam
DESCRIPTION:
URL:https://ivtemple.creativeonwards.com/event/shravana-upakarma-avani-avittam/
LOCATION:SVETA LV Temple\, Lakshmi Venkateswara Temple\, 18109 NE 76th St\, STE#105\, Redmond\, WA\, 98052\, United States
ATTACH;FMTTYPE=image/png:https://ivtemple.creativeonwards.com/wp-content/uploads/2023/08/Event-Flyers.png
END:VEVENT
BEGIN:VEVENT
DTSTART;TZID=America/Los_Angeles:20230830T180000
DTEND;TZID=America/Los_Angeles:20230830T210000
DTSTAMP:20260422T062544
CREATED:20230823T031553Z
LAST-MODIFIED:20230823T031554Z
UID:8100-1693418400-1693429200@ivtemple.creativeonwards.com
SUMMARY:Hayagreeva Jayanthi - Sarva Vidya pradayaka Hayagreeva Homam
DESCRIPTION:
URL:https://ivtemple.creativeonwards.com/event/hayagreeva-jayanthi-sarva-vidya-pradayaka-hayagreeva-homam/
LOCATION:SVETA LV Temple\, Lakshmi Venkateswara Temple\, 18109 NE 76th St\, STE#105\, Redmond\, WA\, 98052\, United States
ATTACH;FMTTYPE=image/png:https://ivtemple.creativeonwards.com/wp-content/uploads/2023/08/Event-Flyers-3.png
END:VEVENT
END:VCALENDAR