BEGIN:VCALENDAR
VERSION:2.0
PRODID:-//Home - ECPv6.8.3//NONSGML v1.0//EN
CALSCALE:GREGORIAN
METHOD:PUBLISH
X-ORIGINAL-URL:https://ivtemple.creativeonwards.com
X-WR-CALDESC:Events for Home
REFRESH-INTERVAL;VALUE=DURATION:PT1H
X-Robots-Tag:noindex
X-PUBLISHED-TTL:PT1H
BEGIN:VTIMEZONE
TZID:America/Los_Angeles
BEGIN:DAYLIGHT
TZOFFSETFROM:-0800
TZOFFSETTO:-0700
TZNAME:PDT
DTSTART:20230312T100000
END:DAYLIGHT
BEGIN:STANDARD
TZOFFSETFROM:-0700
TZOFFSETTO:-0800
TZNAME:PST
DTSTART:20231105T090000
END:STANDARD
END:VTIMEZONE
BEGIN:VEVENT
DTSTART;TZID=America/Los_Angeles:20230918T070000
DTEND;TZID=America/Los_Angeles:20230918T210000
DTSTAMP:20260422T062554
CREATED:20230912T141750Z
LAST-MODIFIED:20230918T182751Z
UID:8146-1695020400-1695070800@ivtemple.creativeonwards.com
SUMMARY:Ganesha Chaturthi Celebrations
DESCRIPTION:Register using link \nLink for Registration to participate in Samoohika Pooja
URL:https://ivtemple.creativeonwards.com/event/ganesha-chaturthi-celebrations/
LOCATION:SVETA LV Temple\, Lakshmi Venkateswara Temple\, 18109 NE 76th St\, STE#105\, Redmond\, WA\, 98052\, United States
ATTACH;FMTTYPE=image/png:https://ivtemple.creativeonwards.com/wp-content/uploads/2023/09/Traditional-Happy-Ganesh-Chaturthi-Instagram-Post-1.png
END:VEVENT
END:VCALENDAR