BEGIN:VCALENDAR
VERSION:2.0
PRODID:-//Home - ECPv6.8.3//NONSGML v1.0//EN
CALSCALE:GREGORIAN
METHOD:PUBLISH
X-WR-CALNAME:Home
X-ORIGINAL-URL:https://ivtemple.creativeonwards.com
X-WR-CALDESC:Events for Home
REFRESH-INTERVAL;VALUE=DURATION:PT1H
X-Robots-Tag:noindex
X-PUBLISHED-TTL:PT1H
BEGIN:VTIMEZONE
TZID:America/Los_Angeles
BEGIN:DAYLIGHT
TZOFFSETFROM:-0800
TZOFFSETTO:-0700
TZNAME:PDT
DTSTART:20230312T100000
END:DAYLIGHT
BEGIN:STANDARD
TZOFFSETFROM:-0700
TZOFFSETTO:-0800
TZNAME:PST
DTSTART:20231105T090000
END:STANDARD
END:VTIMEZONE
BEGIN:VEVENT
DTSTART;TZID=America/Los_Angeles:20230714T190000
DTEND;TZID=America/Los_Angeles:20230714T203000
DTSTAMP:20260423T003814
CREATED:20230610T172816Z
LAST-MODIFIED:20230712T035233Z
UID:8031-1689361200-1689366600@ivtemple.creativeonwards.com
SUMMARY:3-day program on Bhagavad Gita by Dr. L.V. Gangadhara Sastry
DESCRIPTION:
URL:https://ivtemple.creativeonwards.com/event/3-day-program-on-bhagavad-gita-by-dr-l-v-gangadhara-sastry/
LOCATION:SVETA LV Temple\, Lakshmi Venkateswara Temple\, 18109 NE 76th St\, STE#105\, Redmond\, WA\, 98052\, United States
CATEGORIES:Cultural
ATTACH;FMTTYPE=image/jpeg:https://ivtemple.creativeonwards.com/wp-content/uploads/2023/06/ac203388-29df-49d7-8792-e4ac6e7e929d.jpeg
END:VEVENT
END:VCALENDAR