BEGIN:VCALENDAR
VERSION:2.0
PRODID:-//Home - ECPv6.8.3//NONSGML v1.0//EN
CALSCALE:GREGORIAN
METHOD:PUBLISH
X-WR-CALNAME:Home
X-ORIGINAL-URL:https://ivtemple.creativeonwards.com
X-WR-CALDESC:Events for Home
REFRESH-INTERVAL;VALUE=DURATION:PT1H
X-Robots-Tag:noindex
X-PUBLISHED-TTL:PT1H
BEGIN:VTIMEZONE
TZID:America/Los_Angeles
BEGIN:DAYLIGHT
TZOFFSETFROM:-0800
TZOFFSETTO:-0700
TZNAME:PDT
DTSTART:20230312T100000
END:DAYLIGHT
BEGIN:STANDARD
TZOFFSETFROM:-0700
TZOFFSETTO:-0800
TZNAME:PST
DTSTART:20231105T090000
END:STANDARD
END:VTIMEZONE
BEGIN:VEVENT
DTSTART;TZID=America/Los_Angeles:20230820T160000
DTEND;TZID=America/Los_Angeles:20230820T190000
DTSTAMP:20260422T215042
CREATED:20230808T172147Z
LAST-MODIFIED:20230808T172147Z
UID:8074-1692547200-1692558000@ivtemple.creativeonwards.com
SUMMARY:Asthavadham in Telugu by Dr. Medasani Mohan
DESCRIPTION:
URL:https://ivtemple.creativeonwards.com/event/asthavadham-in-telugu-by-dr-medasani-mohan/
LOCATION:SVETA LV Temple\, Lakshmi Venkateswara Temple\, 18109 NE 76th St\, STE#105\, Redmond\, WA\, 98052\, United States
CATEGORIES:Cultural
ATTACH;FMTTYPE=image/jpeg:https://ivtemple.creativeonwards.com/wp-content/uploads/2023/08/73a7c354-b008-4439-937a-3f5ab1595091.jpeg
END:VEVENT
BEGIN:VEVENT
DTSTART;TZID=America/Los_Angeles:20230909T170000
DTEND;TZID=America/Los_Angeles:20230909T183000
DTSTAMP:20260422T215042
CREATED:20230908T201756Z
LAST-MODIFIED:20230908T201756Z
UID:8137-1694278800-1694284200@ivtemple.creativeonwards.com
SUMMARY:Carnatic Vocal Concert by Vidushi K Vrinda Acharya
DESCRIPTION:
URL:https://ivtemple.creativeonwards.com/event/carnatic-vocal-concert-by-vidushi-k-vrinda-acharya/
LOCATION:SVETA LV Temple\, Lakshmi Venkateswara Temple\, 18109 NE 76th St\, STE#105\, Redmond\, WA\, 98052\, United States
CATEGORIES:Cultural
ATTACH;FMTTYPE=image/jpeg:https://ivtemple.creativeonwards.com/wp-content/uploads/2023/09/375668666_797019182423695_8923587503152277972_n.jpg
END:VEVENT
BEGIN:VEVENT
DTSTART;TZID=America/Los_Angeles:20230916T160000
DTEND;TZID=America/Los_Angeles:20230916T183000
DTSTAMP:20260422T215042
CREATED:20230913T031836Z
LAST-MODIFIED:20230913T031837Z
UID:8155-1694880000-1694889000@ivtemple.creativeonwards.com
SUMMARY:Carnatic Violin Concert
DESCRIPTION:
URL:https://ivtemple.creativeonwards.com/event/carnatic-violin-concert/
LOCATION:SVETA LV Temple\, Lakshmi Venkateswara Temple\, 18109 NE 76th St\, STE#105\, Redmond\, WA\, 98052\, United States
CATEGORIES:Cultural
ATTACH;FMTTYPE=image/jpeg:https://ivtemple.creativeonwards.com/wp-content/uploads/2023/09/WhatsApp-Image-2023-09-12-at-8.13.19-PM.jpeg
END:VEVENT
BEGIN:VEVENT
DTSTART;TZID=America/Los_Angeles:20230917T160000
DTEND;TZID=America/Los_Angeles:20230917T183000
DTSTAMP:20260422T215042
CREATED:20230908T201302Z
LAST-MODIFIED:20230908T201302Z
UID:8134-1694966400-1694975400@ivtemple.creativeonwards.com
SUMMARY:Carnatic Vocal Concert by Abhilash Giriprasad
DESCRIPTION:
URL:https://ivtemple.creativeonwards.com/event/carnatic-vocal-concert-by-abhilash-giriprasad-2/
LOCATION:SVETA LV Temple\, Lakshmi Venkateswara Temple\, 18109 NE 76th St\, STE#105\, Redmond\, WA\, 98052\, United States
CATEGORIES:Cultural
ATTACH;FMTTYPE=image/jpeg:https://ivtemple.creativeonwards.com/wp-content/uploads/2023/09/369735317_792582032867410_3228007397765174118_n.jpg
END:VEVENT
BEGIN:VEVENT
DTSTART;TZID=America/Los_Angeles:20231001T170000
DTEND;TZID=America/Los_Angeles:20231001T193000
DTSTAMP:20260422T215042
CREATED:20230913T032032Z
LAST-MODIFIED:20230913T032033Z
UID:8159-1696179600-1696188600@ivtemple.creativeonwards.com
SUMMARY:A Tribute to Guru Karaikudi Mani - Vibrations
DESCRIPTION:
URL:https://ivtemple.creativeonwards.com/event/a-tribute-to-guru-karaikudi-mani-vibrations/
LOCATION:SVETA LV Temple\, Lakshmi Venkateswara Temple\, 18109 NE 76th St\, STE#105\, Redmond\, WA\, 98052\, United States
CATEGORIES:Cultural
ATTACH;FMTTYPE=image/jpeg:https://ivtemple.creativeonwards.com/wp-content/uploads/2023/09/WhatsApp-Image-2023-09-12-at-8.14.07-PM.jpeg
END:VEVENT
END:VCALENDAR