BEGIN:VCALENDAR
VERSION:2.0
PRODID:-//Home - ECPv6.8.3//NONSGML v1.0//EN
CALSCALE:GREGORIAN
METHOD:PUBLISH
X-WR-CALNAME:Home
X-ORIGINAL-URL:https://ivtemple.creativeonwards.com
X-WR-CALDESC:Events for Home
REFRESH-INTERVAL;VALUE=DURATION:PT1H
X-Robots-Tag:noindex
X-PUBLISHED-TTL:PT1H
BEGIN:VTIMEZONE
TZID:America/Los_Angeles
BEGIN:DAYLIGHT
TZOFFSETFROM:-0800
TZOFFSETTO:-0700
TZNAME:PDT
DTSTART:20220313T100000
END:DAYLIGHT
BEGIN:STANDARD
TZOFFSETFROM:-0700
TZOFFSETTO:-0800
TZNAME:PST
DTSTART:20221106T090000
END:STANDARD
END:VTIMEZONE
BEGIN:VEVENT
DTSTART;TZID=America/Los_Angeles:20221031T183000
DTEND;TZID=America/Los_Angeles:20221031T203000
DTSTAMP:20260419T091242
CREATED:20221012T000734Z
LAST-MODIFIED:20221018T180544Z
UID:6279-1667241000-1667248200@ivtemple.creativeonwards.com
SUMMARY:Karthika Maasa Celebrations (Mondays)
DESCRIPTION:
URL:https://ivtemple.creativeonwards.com/event/karthika-maasa-celebrations-2/
LOCATION:SVETA LV Temple\, Lakshmi Venkateswara Temple\, 18109 NE 76th St\, STE#105\, Redmond\, WA\, 98052\, United States
ATTACH;FMTTYPE=image/jpeg:https://ivtemple.creativeonwards.com/wp-content/uploads/2022/10/WebSite-Flyers-6.jpg
END:VEVENT
BEGIN:VEVENT
DTSTART;TZID=America/Los_Angeles:20221025T190000
DTEND;TZID=America/Los_Angeles:20221025T203000
DTSTAMP:20260419T091242
CREATED:20221011T235709Z
LAST-MODIFIED:20221114T031637Z
UID:6165-1666724400-1666729800@ivtemple.creativeonwards.com
SUMMARY:Karthika Maasa Celebrations
DESCRIPTION:
URL:https://ivtemple.creativeonwards.com/event/karthika-maasa-celebrations/
LOCATION:SVETA LV Temple\, Lakshmi Venkateswara Temple\, 18109 NE 76th St\, STE#105\, Redmond\, WA\, 98052\, United States
ATTACH;FMTTYPE=image/jpeg:https://ivtemple.creativeonwards.com/wp-content/uploads/2022/10/WebSite-Flyers-6.jpg
END:VEVENT
BEGIN:VEVENT
DTSTART;TZID=America/Los_Angeles:20221120T090000
DTEND;TZID=America/Los_Angeles:20221120T100000
DTSTAMP:20260419T091242
CREATED:20221120T001728Z
LAST-MODIFIED:20221121T190550Z
UID:6967-1668934800-1668938400@ivtemple.creativeonwards.com
SUMMARY:Aruna Parayanam
DESCRIPTION:
URL:https://ivtemple.creativeonwards.com/event/aruna-parayanam/
LOCATION:SVETA LV Temple\, Lakshmi Venkateswara Temple\, 18109 NE 76th St\, STE#105\, Redmond\, WA\, 98052\, United States
ATTACH;FMTTYPE=image/jpeg:https://ivtemple.creativeonwards.com/wp-content/uploads/2022/11/WebSite-Flyers-2.jpg
END:VEVENT
BEGIN:VEVENT
DTSTART;TZID=America/Los_Angeles:20221119T100000
DTEND;TZID=America/Los_Angeles:20221119T213000
DTSTAMP:20260419T091242
CREATED:20221113T224243Z
LAST-MODIFIED:20221114T063800Z
UID:6887-1668852000-1668893400@ivtemple.creativeonwards.com
SUMMARY:Karthika Masa Special Program - Sashara Lingarchana\, Rudra Homam
DESCRIPTION:
URL:https://ivtemple.creativeonwards.com/event/6887/
LOCATION:SVETA LV Temple\, Lakshmi Venkateswara Temple\, 18109 NE 76th St\, STE#105\, Redmond\, WA\, 98052\, United States
ATTACH;FMTTYPE=image/jpeg:https://ivtemple.creativeonwards.com/wp-content/uploads/2022/11/jpg_20221113_191253_0000.jpg
END:VEVENT
BEGIN:VEVENT
DTSTART;TZID=America/Los_Angeles:20221025T190000
DTEND;TZID=America/Los_Angeles:20221025T203000
DTSTAMP:20260419T091242
CREATED:20221011T235709Z
LAST-MODIFIED:20221114T031637Z
UID:6165-1666724400-1666729800@ivtemple.creativeonwards.com
SUMMARY:Karthika Maasa Celebrations
DESCRIPTION:
URL:https://ivtemple.creativeonwards.com/event/karthika-maasa-celebrations/
LOCATION:SVETA LV Temple\, Lakshmi Venkateswara Temple\, 18109 NE 76th St\, STE#105\, Redmond\, WA\, 98052\, United States
ATTACH;FMTTYPE=image/jpeg:https://ivtemple.creativeonwards.com/wp-content/uploads/2022/10/WebSite-Flyers-6.jpg
END:VEVENT
BEGIN:VEVENT
DTSTART;TZID=America/Los_Angeles:20221025T190000
DTEND;TZID=America/Los_Angeles:20221025T203000
DTSTAMP:20260419T091242
CREATED:20221011T235709Z
LAST-MODIFIED:20221114T031637Z
UID:6165-1666724400-1666729800@ivtemple.creativeonwards.com
SUMMARY:Karthika Maasa Celebrations
DESCRIPTION:
URL:https://ivtemple.creativeonwards.com/event/karthika-maasa-celebrations/
LOCATION:SVETA LV Temple\, Lakshmi Venkateswara Temple\, 18109 NE 76th St\, STE#105\, Redmond\, WA\, 98052\, United States
ATTACH;FMTTYPE=image/jpeg:https://ivtemple.creativeonwards.com/wp-content/uploads/2022/10/WebSite-Flyers-6.jpg
END:VEVENT
BEGIN:VEVENT
DTSTART;TZID=America/Los_Angeles:20221025T190000
DTEND;TZID=America/Los_Angeles:20221025T203000
DTSTAMP:20260419T091242
CREATED:20221011T235709Z
LAST-MODIFIED:20221114T031637Z
UID:6165-1666724400-1666729800@ivtemple.creativeonwards.com
SUMMARY:Karthika Maasa Celebrations
DESCRIPTION:
URL:https://ivtemple.creativeonwards.com/event/karthika-maasa-celebrations/
LOCATION:SVETA LV Temple\, Lakshmi Venkateswara Temple\, 18109 NE 76th St\, STE#105\, Redmond\, WA\, 98052\, United States
ATTACH;FMTTYPE=image/jpeg:https://ivtemple.creativeonwards.com/wp-content/uploads/2022/10/WebSite-Flyers-6.jpg
END:VEVENT
BEGIN:VEVENT
DTSTART;TZID=America/Los_Angeles:20221025T190000
DTEND;TZID=America/Los_Angeles:20221025T203000
DTSTAMP:20260419T091242
CREATED:20221011T235709Z
LAST-MODIFIED:20221114T031637Z
UID:6165-1666724400-1666729800@ivtemple.creativeonwards.com
SUMMARY:Karthika Maasa Celebrations
DESCRIPTION:
URL:https://ivtemple.creativeonwards.com/event/karthika-maasa-celebrations/
LOCATION:SVETA LV Temple\, Lakshmi Venkateswara Temple\, 18109 NE 76th St\, STE#105\, Redmond\, WA\, 98052\, United States
ATTACH;FMTTYPE=image/jpeg:https://ivtemple.creativeonwards.com/wp-content/uploads/2022/10/WebSite-Flyers-6.jpg
END:VEVENT
BEGIN:VEVENT
DTSTART;TZID=America/Los_Angeles:20221031T183000
DTEND;TZID=America/Los_Angeles:20221031T203000
DTSTAMP:20260419T091242
CREATED:20221012T000734Z
LAST-MODIFIED:20221018T180544Z
UID:6279-1667241000-1667248200@ivtemple.creativeonwards.com
SUMMARY:Karthika Maasa Celebrations (Mondays)
DESCRIPTION:
URL:https://ivtemple.creativeonwards.com/event/karthika-maasa-celebrations-2/
LOCATION:SVETA LV Temple\, Lakshmi Venkateswara Temple\, 18109 NE 76th St\, STE#105\, Redmond\, WA\, 98052\, United States
ATTACH;FMTTYPE=image/jpeg:https://ivtemple.creativeonwards.com/wp-content/uploads/2022/10/WebSite-Flyers-6.jpg
END:VEVENT
BEGIN:VEVENT
DTSTART;TZID=America/Los_Angeles:20221025T190000
DTEND;TZID=America/Los_Angeles:20221025T203000
DTSTAMP:20260419T091242
CREATED:20221011T235709Z
LAST-MODIFIED:20221114T031637Z
UID:6165-1666724400-1666729800@ivtemple.creativeonwards.com
SUMMARY:Karthika Maasa Celebrations
DESCRIPTION:
URL:https://ivtemple.creativeonwards.com/event/karthika-maasa-celebrations/
LOCATION:SVETA LV Temple\, Lakshmi Venkateswara Temple\, 18109 NE 76th St\, STE#105\, Redmond\, WA\, 98052\, United States
ATTACH;FMTTYPE=image/jpeg:https://ivtemple.creativeonwards.com/wp-content/uploads/2022/10/WebSite-Flyers-6.jpg
END:VEVENT
BEGIN:VEVENT
DTSTART;TZID=America/Los_Angeles:20221017T190000
DTEND;TZID=America/Los_Angeles:20221017T203000
DTSTAMP:20260419T091242
CREATED:20221003T015302Z
LAST-MODIFIED:20221202T183432Z
UID:5860-1666033200-1666038600@ivtemple.creativeonwards.com
SUMMARY:Punarvasu Sri Rama Parivar Abhishekam
DESCRIPTION:
URL:https://ivtemple.creativeonwards.com/event/punarvasu-sri-rama-parivar-abhishekam/
LOCATION:WA
ATTACH;FMTTYPE=image/png:https://ivtemple.creativeonwards.com/wp-content/uploads/2022/10/3-1.png
END:VEVENT
BEGIN:VEVENT
DTSTART;TZID=America/Los_Angeles:20221025T190000
DTEND;TZID=America/Los_Angeles:20221025T203000
DTSTAMP:20260419T091242
CREATED:20221011T235709Z
LAST-MODIFIED:20221114T031637Z
UID:6165-1666724400-1666729800@ivtemple.creativeonwards.com
SUMMARY:Karthika Maasa Celebrations
DESCRIPTION:
URL:https://ivtemple.creativeonwards.com/event/karthika-maasa-celebrations/
LOCATION:SVETA LV Temple\, Lakshmi Venkateswara Temple\, 18109 NE 76th St\, STE#105\, Redmond\, WA\, 98052\, United States
ATTACH;FMTTYPE=image/jpeg:https://ivtemple.creativeonwards.com/wp-content/uploads/2022/10/WebSite-Flyers-6.jpg
END:VEVENT
BEGIN:VEVENT
DTSTART;TZID=America/Los_Angeles:20221025T190000
DTEND;TZID=America/Los_Angeles:20221025T203000
DTSTAMP:20260419T091242
CREATED:20221011T235709Z
LAST-MODIFIED:20221114T031637Z
UID:6165-1666724400-1666729800@ivtemple.creativeonwards.com
SUMMARY:Karthika Maasa Celebrations
DESCRIPTION:
URL:https://ivtemple.creativeonwards.com/event/karthika-maasa-celebrations/
LOCATION:SVETA LV Temple\, Lakshmi Venkateswara Temple\, 18109 NE 76th St\, STE#105\, Redmond\, WA\, 98052\, United States
ATTACH;FMTTYPE=image/jpeg:https://ivtemple.creativeonwards.com/wp-content/uploads/2022/10/WebSite-Flyers-6.jpg
END:VEVENT
BEGIN:VEVENT
DTSTART;TZID=America/Los_Angeles:20221012T190000
DTEND;TZID=America/Los_Angeles:20221012T203000
DTSTAMP:20260419T091242
CREATED:20221003T014909Z
LAST-MODIFIED:20221023T020929Z
UID:5856-1665601200-1665606600@ivtemple.creativeonwards.com
SUMMARY:Ganesha Abhishekam
DESCRIPTION:
URL:https://ivtemple.creativeonwards.com/event/ganesha-abhishekam/
LOCATION:WA
ATTACH;FMTTYPE=image/png:https://ivtemple.creativeonwards.com/wp-content/uploads/2022/10/6-1.png
END:VEVENT
BEGIN:VEVENT
DTSTART;TZID=America/Los_Angeles:20221025T190000
DTEND;TZID=America/Los_Angeles:20221025T203000
DTSTAMP:20260419T091242
CREATED:20221011T235709Z
LAST-MODIFIED:20221114T031637Z
UID:6165-1666724400-1666729800@ivtemple.creativeonwards.com
SUMMARY:Karthika Maasa Celebrations
DESCRIPTION:
URL:https://ivtemple.creativeonwards.com/event/karthika-maasa-celebrations/
LOCATION:SVETA LV Temple\, Lakshmi Venkateswara Temple\, 18109 NE 76th St\, STE#105\, Redmond\, WA\, 98052\, United States
ATTACH;FMTTYPE=image/jpeg:https://ivtemple.creativeonwards.com/wp-content/uploads/2022/10/WebSite-Flyers-6.jpg
END:VEVENT
BEGIN:VEVENT
DTSTART;TZID=America/Los_Angeles:20221025T190000
DTEND;TZID=America/Los_Angeles:20221025T203000
DTSTAMP:20260419T091242
CREATED:20221011T235709Z
LAST-MODIFIED:20221114T031637Z
UID:6165-1666724400-1666729800@ivtemple.creativeonwards.com
SUMMARY:Karthika Maasa Celebrations
DESCRIPTION:
URL:https://ivtemple.creativeonwards.com/event/karthika-maasa-celebrations/
LOCATION:SVETA LV Temple\, Lakshmi Venkateswara Temple\, 18109 NE 76th St\, STE#105\, Redmond\, WA\, 98052\, United States
ATTACH;FMTTYPE=image/jpeg:https://ivtemple.creativeonwards.com/wp-content/uploads/2022/10/WebSite-Flyers-6.jpg
END:VEVENT
BEGIN:VEVENT
DTSTART;TZID=America/Los_Angeles:20221109T180000
DTEND;TZID=America/Los_Angeles:20221109T210000
DTSTAMP:20260419T091242
CREATED:20221023T041637Z
LAST-MODIFIED:20221023T041754Z
UID:6436-1668016800-1668027600@ivtemple.creativeonwards.com
SUMMARY:Sudrashana Jayanti - Sudarshana Homam
DESCRIPTION:
URL:https://ivtemple.creativeonwards.com/event/sudrashana-jayanti-sudarshana-homam/
LOCATION:SVETA LV Temple\, Lakshmi Venkateswara Temple\, 18109 NE 76th St\, STE#105\, Redmond\, WA\, 98052\, United States
ATTACH;FMTTYPE=image/jpeg:https://ivtemple.creativeonwards.com/wp-content/uploads/2022/10/WebSite-Flyers-7.jpg
END:VEVENT
BEGIN:VEVENT
DTSTART;TZID=America/Los_Angeles:20221025T190000
DTEND;TZID=America/Los_Angeles:20221025T203000
DTSTAMP:20260419T091242
CREATED:20221011T235709Z
LAST-MODIFIED:20221114T031637Z
UID:6165-1666724400-1666729800@ivtemple.creativeonwards.com
SUMMARY:Karthika Maasa Celebrations
DESCRIPTION:
URL:https://ivtemple.creativeonwards.com/event/karthika-maasa-celebrations/
LOCATION:SVETA LV Temple\, Lakshmi Venkateswara Temple\, 18109 NE 76th St\, STE#105\, Redmond\, WA\, 98052\, United States
ATTACH;FMTTYPE=image/jpeg:https://ivtemple.creativeonwards.com/wp-content/uploads/2022/10/WebSite-Flyers-6.jpg
END:VEVENT
BEGIN:VEVENT
DTSTART;TZID=America/Los_Angeles:20221012T190000
DTEND;TZID=America/Los_Angeles:20221012T203000
DTSTAMP:20260419T091242
CREATED:20221003T025439Z
LAST-MODIFIED:20221009T165221Z
UID:5874-1665601200-1665606600@ivtemple.creativeonwards.com
SUMMARY:Subrahmanya Abhishekam
DESCRIPTION:
URL:https://ivtemple.creativeonwards.com/event/subrahmanya-abhishekam/
LOCATION:WA
ATTACH;FMTTYPE=image/png:https://ivtemple.creativeonwards.com/wp-content/uploads/2022/10/5-1.png
END:VEVENT
BEGIN:VEVENT
DTSTART;TZID=America/Los_Angeles:20221108T180000
DTEND;TZID=America/Los_Angeles:20221108T193000
DTSTAMP:20260419T091242
CREATED:20221029T170841Z
LAST-MODIFIED:20221029T171845Z
UID:6765-1667930400-1667935800@ivtemple.creativeonwards.com
SUMMARY:Grahana Shanti Homam
DESCRIPTION:
URL:https://ivtemple.creativeonwards.com/event/grahana-shanti-homam/
LOCATION:SVETA LV Temple\, Lakshmi Venkateswara Temple\, 18109 NE 76th St\, STE#105\, Redmond\, WA\, 98052\, United States
ATTACH;FMTTYPE=image/jpeg:https://ivtemple.creativeonwards.com/wp-content/uploads/2022/10/WebSite-Flyers-4-1.jpg
END:VEVENT
BEGIN:VEVENT
DTSTART;TZID=America/Los_Angeles:20221108T010800
DTEND;TZID=America/Los_Angeles:20221108T044900
DTSTAMP:20260419T091242
CREATED:20221029T170722Z
LAST-MODIFIED:20221106T200929Z
UID:6762-1667869680-1667882940@ivtemple.creativeonwards.com
SUMMARY:lunar Eclipse
DESCRIPTION:
URL:https://ivtemple.creativeonwards.com/event/lunar-eclipse/
LOCATION:SVETA LV Temple\, Lakshmi Venkateswara Temple\, 18109 NE 76th St\, STE#105\, Redmond\, WA\, 98052\, United States
ATTACH;FMTTYPE=image/jpeg:https://ivtemple.creativeonwards.com/wp-content/uploads/2022/10/WebSite-Flyers-9.jpg
END:VEVENT
BEGIN:VEVENT
DTSTART;TZID=America/Los_Angeles:20221031T183000
DTEND;TZID=America/Los_Angeles:20221031T203000
DTSTAMP:20260419T091242
CREATED:20221012T000734Z
LAST-MODIFIED:20221018T180544Z
UID:6279-1667241000-1667248200@ivtemple.creativeonwards.com
SUMMARY:Karthika Maasa Celebrations (Mondays)
DESCRIPTION:
URL:https://ivtemple.creativeonwards.com/event/karthika-maasa-celebrations-2/
LOCATION:SVETA LV Temple\, Lakshmi Venkateswara Temple\, 18109 NE 76th St\, STE#105\, Redmond\, WA\, 98052\, United States
ATTACH;FMTTYPE=image/jpeg:https://ivtemple.creativeonwards.com/wp-content/uploads/2022/10/WebSite-Flyers-6.jpg
END:VEVENT
BEGIN:VEVENT
DTSTART;TZID=America/Los_Angeles:20221107T183000
DTEND;TZID=America/Los_Angeles:20221107T200000
DTSTAMP:20260419T091242
CREATED:20221023T030632Z
LAST-MODIFIED:20221023T031128Z
UID:6428-1667845800-1667851200@ivtemple.creativeonwards.com
SUMMARY:Karthika Poornima - Samoohika Satyanarayana Vratam
DESCRIPTION:
URL:https://ivtemple.creativeonwards.com/event/karthika-poornima-samoohika-satyanarayana-vratam/
LOCATION:SVETA LV Temple\, Lakshmi Venkateswara Temple\, 18109 NE 76th St\, STE#105\, Redmond\, WA\, 98052\, United States
ATTACH;FMTTYPE=image/jpeg:https://ivtemple.creativeonwards.com/wp-content/uploads/2022/10/WebSite-Flyers-5-1.jpg
END:VEVENT
BEGIN:VEVENT
DTSTART;TZID=America/Los_Angeles:20221025T190000
DTEND;TZID=America/Los_Angeles:20221025T203000
DTSTAMP:20260419T091242
CREATED:20221011T235709Z
LAST-MODIFIED:20221114T031637Z
UID:6165-1666724400-1666729800@ivtemple.creativeonwards.com
SUMMARY:Karthika Maasa Celebrations
DESCRIPTION:
URL:https://ivtemple.creativeonwards.com/event/karthika-maasa-celebrations/
LOCATION:SVETA LV Temple\, Lakshmi Venkateswara Temple\, 18109 NE 76th St\, STE#105\, Redmond\, WA\, 98052\, United States
ATTACH;FMTTYPE=image/jpeg:https://ivtemple.creativeonwards.com/wp-content/uploads/2022/10/WebSite-Flyers-6.jpg
END:VEVENT
BEGIN:VEVENT
DTSTART;TZID=America/Los_Angeles:20221025T190000
DTEND;TZID=America/Los_Angeles:20221025T203000
DTSTAMP:20260419T091242
CREATED:20221011T235709Z
LAST-MODIFIED:20221114T031637Z
UID:6165-1666724400-1666729800@ivtemple.creativeonwards.com
SUMMARY:Karthika Maasa Celebrations
DESCRIPTION:
URL:https://ivtemple.creativeonwards.com/event/karthika-maasa-celebrations/
LOCATION:SVETA LV Temple\, Lakshmi Venkateswara Temple\, 18109 NE 76th St\, STE#105\, Redmond\, WA\, 98052\, United States
ATTACH;FMTTYPE=image/jpeg:https://ivtemple.creativeonwards.com/wp-content/uploads/2022/10/WebSite-Flyers-6.jpg
END:VEVENT
BEGIN:VEVENT
DTSTART;TZID=America/Los_Angeles:20221006T190000
DTEND;TZID=America/Los_Angeles:20221006T200000
DTSTAMP:20260419T091242
CREATED:20221003T014305Z
LAST-MODIFIED:20221121T190733Z
UID:5849-1665082800-1665086400@ivtemple.creativeonwards.com
SUMMARY:Pradosham Rudrabhishekam
DESCRIPTION:
URL:https://ivtemple.creativeonwards.com/event/pradosham-rudrabhishekam/
LOCATION:WA
ATTACH;FMTTYPE=image/png:https://ivtemple.creativeonwards.com/wp-content/uploads/2022/10/WebSite-Flyers-1.png
END:VEVENT
BEGIN:VEVENT
DTSTART;TZID=America/Los_Angeles:20221105T103000
DTEND;TZID=America/Los_Angeles:20221105T130000
DTSTAMP:20260419T091242
CREATED:20221029T170329Z
LAST-MODIFIED:20221029T170329Z
UID:6759-1667644200-1667653200@ivtemple.creativeonwards.com
SUMMARY:Shani Tryodashi - Tailabhishekam
DESCRIPTION:
URL:https://ivtemple.creativeonwards.com/event/shani-tryodashi-tailabhishekam/
LOCATION:SVETA LV Temple\, Lakshmi Venkateswara Temple\, 18109 NE 76th St\, STE#105\, Redmond\, WA\, 98052\, United States
ATTACH;FMTTYPE=image/jpeg:https://ivtemple.creativeonwards.com/wp-content/uploads/2022/10/WebSite-Flyers-2-2.jpg
END:VEVENT
BEGIN:VEVENT
DTSTART;TZID=America/Los_Angeles:20221008T100000
DTEND;TZID=America/Los_Angeles:20221008T140000
DTSTAMP:20260419T091242
CREATED:20221003T013450Z
LAST-MODIFIED:20221029T035321Z
UID:5836-1665223200-1665237600@ivtemple.creativeonwards.com
SUMMARY:Lakshmi Venkateswara\, Mahalakshmi & Andal Abhishekam
DESCRIPTION:
URL:https://ivtemple.creativeonwards.com/event/lakshmi-venkateswara-mahalakshmi-andal-abhishekam/
LOCATION:WA
ATTACH;FMTTYPE=image/png:https://ivtemple.creativeonwards.com/wp-content/uploads/2022/10/1-1.png
END:VEVENT
BEGIN:VEVENT
DTSTART;TZID=America/Los_Angeles:20221104T200000
DTEND;TZID=America/Los_Angeles:20221104T213000
DTSTAMP:20260419T091242
CREATED:20221023T040623Z
LAST-MODIFIED:20221029T200457Z
UID:6433-1667592000-1667597400@ivtemple.creativeonwards.com
SUMMARY:Kshirabdi Dwadasi - Tulasi Kalyanam
DESCRIPTION:
URL:https://ivtemple.creativeonwards.com/event/kshirabdi-dwadasi-tulasi-kalyanam/
LOCATION:SVETA LV Temple\, Lakshmi Venkateswara Temple\, 18109 NE 76th St\, STE#105\, Redmond\, WA\, 98052\, United States
ATTACH;FMTTYPE=image/jpeg:https://ivtemple.creativeonwards.com/wp-content/uploads/2022/10/WebSite-Flyers-6-2.jpg
END:VEVENT
BEGIN:VEVENT
DTSTART;TZID=America/Los_Angeles:20221025T190000
DTEND;TZID=America/Los_Angeles:20221025T203000
DTSTAMP:20260419T091242
CREATED:20221011T235709Z
LAST-MODIFIED:20221114T031637Z
UID:6165-1666724400-1666729800@ivtemple.creativeonwards.com
SUMMARY:Karthika Maasa Celebrations
DESCRIPTION:
URL:https://ivtemple.creativeonwards.com/event/karthika-maasa-celebrations/
LOCATION:SVETA LV Temple\, Lakshmi Venkateswara Temple\, 18109 NE 76th St\, STE#105\, Redmond\, WA\, 98052\, United States
ATTACH;FMTTYPE=image/jpeg:https://ivtemple.creativeonwards.com/wp-content/uploads/2022/10/WebSite-Flyers-6.jpg
END:VEVENT
END:VCALENDAR